BEGIN:VCALENDAR
VERSION:2.0
PRODID:skolkovo.ru
X-WR-CALNAME:Гранты на программу «Управляй шко
 лой»
X-WR-TIMEZONE:Europe/Moscow
BEGIN:VTIMEZONE
TZID:Europe/Moscow
X-LIC-LOCATION:Europe/Moscow
END:VTIMEZONE
BEGIN:VEVENT
UID:69e5e3f5db2d9
DTSTART:20260320T150000Z
SEQUENCE:0
TRANSP:OPAQUE
DTEND:20260320T205900Z
SUMMARY:Гранты на программу «Управляй школо
 й»
CLASS:PUBLIC
DESCRIPTION:Мероприятие\nГранты на программу «
 Управляй школой»\n
ORGANIZER;CN=СКОЛКОВО:MAILTO:info@skolkovo.ru
DTSTAMP:20260420T082941Z
END:VEVENT
END:VCALENDAR