BEGIN:VCALENDAR
VERSION:2.0
PRODID:skolkovo.ru
X-WR-CALNAME:reSTART: новые смыслы и связи
X-WR-TIMEZONE:Europe/Moscow
BEGIN:VTIMEZONE
TZID:Europe/Moscow
X-LIC-LOCATION:Europe/Moscow
END:VTIMEZONE
BEGIN:VEVENT
UID:69e593054123c
DTSTART:20220530T060000Z
SEQUENCE:0
TRANSP:OPAQUE
DTEND:20220531T190000Z
SUMMARY:reSTART: новые смыслы и связи
CLASS:PUBLIC
DESCRIPTION:Мастер-класс\nreSTART: новые смыслы и с
 вязи\n
ORGANIZER;CN=СКОЛКОВО:MAILTO:info@skolkovo.ru
DTSTAMP:20260420T024421Z
END:VEVENT
END:VCALENDAR