BEGIN:VCALENDAR
VERSION:2.0
PRODID:skolkovo.ru
X-WR-CALNAME:Управление клиникой в новых реали
 ях
X-WR-TIMEZONE:Europe/Moscow
BEGIN:VTIMEZONE
TZID:Europe/Moscow
X-LIC-LOCATION:Europe/Moscow
END:VTIMEZONE
BEGIN:VEVENT
UID:69e8f10300ac3
DTSTART:20220624T070000Z
SEQUENCE:0
TRANSP:OPAQUE
DTEND:20220623T220000Z
SUMMARY:Управление клиникой в новых реалиях
CLASS:PUBLIC
DESCRIPTION:Образовательная программа\nУправл
 ение клиникой в новых реалиях\n
ORGANIZER;CN=СКОЛКОВО:MAILTO:info@skolkovo.ru
DTSTAMP:20260422T160211Z
END:VEVENT
END:VCALENDAR