BEGIN:VCALENDAR
VERSION:2.0
PRODID:skolkovo.ru
X-WR-CALNAME:Лидерство и влияние в организации
X-WR-TIMEZONE:Europe/Moscow
BEGIN:VTIMEZONE
TZID:Europe/Moscow
X-LIC-LOCATION:Europe/Moscow
END:VTIMEZONE
BEGIN:VEVENT
UID:69e90a34bbe6c
DTSTART:20260521T070000Z
SEQUENCE:0
TRANSP:OPAQUE
DTEND:20260521T080000Z
SUMMARY:Лидерство и влияние в организации
CLASS:PUBLIC
DESCRIPTION:Образовательная программа\nЛидерс
 тво и влияние в организации\n
ORGANIZER;CN=СКОЛКОВО:MAILTO:info@skolkovo.ru
DTSTAMP:20260422T174940Z
END:VEVENT
END:VCALENDAR