BEGIN:VCALENDAR
VERSION:2.0
PRODID:skolkovo.ru
X-WR-CALNAME:Операционная эффективность компа
 нии: от замысла до производственной сист
 емы
X-WR-TIMEZONE:Europe/Moscow
BEGIN:VTIMEZONE
TZID:Europe/Moscow
X-LIC-LOCATION:Europe/Moscow
END:VTIMEZONE
BEGIN:VEVENT
UID:69e9d82491f65
DTSTART:20220609T080000Z
SEQUENCE:0
TRANSP:OPAQUE
DTEND:20220609T090000Z
LOCATION:онлайн\, бесплатно
SUMMARY:Операционная эффективность компани
 и: от замысла до производственной систем
 ы
CLASS:PUBLIC
DESCRIPTION:Вебинар\nОперационная эффективнос
 ть компании: от замысла до производствен
 ной системы\n
ORGANIZER;CN=СКОЛКОВО:MAILTO:info@skolkovo.ru
DTSTAMP:20260423T082820Z
END:VEVENT
END:VCALENDAR