BEGIN:VCALENDAR
VERSION:2.0
PRODID:skolkovo.ru
X-WR-CALNAME:Бизнес-завтрак women-only программы FLOW
X-WR-TIMEZONE:Europe/Moscow
BEGIN:VTIMEZONE
TZID:Europe/Moscow
X-LIC-LOCATION:Europe/Moscow
END:VTIMEZONE
BEGIN:VEVENT
UID:69e8f15f5ea3b
DTSTART:20220628T063000Z
SEQUENCE:0
TRANSP:OPAQUE
DTEND:20220628T093000Z
LOCATION:Lotte Hotel\, Новинский бульвар\, д. 8\, стр. 
 2
SUMMARY:Бизнес-завтрак women-only программы FLOW
CLASS:PUBLIC
DESCRIPTION:Бизнес-завтрак\nБизнес-завтрак women-
 only программы FLOW\n
ORGANIZER;CN=СКОЛКОВО:MAILTO:info@skolkovo.ru
DTSTAMP:20260422T160343Z
END:VEVENT
END:VCALENDAR