BEGIN:VCALENDAR
VERSION:2.0
PRODID:skolkovo.ru
X-WR-CALNAME:Reunion выпускников Трилогии открыты
 х программ
X-WR-TIMEZONE:Europe/Moscow
BEGIN:VTIMEZONE
TZID:Europe/Moscow
X-LIC-LOCATION:Europe/Moscow
END:VTIMEZONE
BEGIN:VEVENT
UID:69e59056b10ef
DTSTART:20220907T153000Z
SEQUENCE:0
TRANSP:OPAQUE
DTEND:20220907T180000Z
SUMMARY:Reunion выпускников Трилогии открытых п
 рограмм
CLASS:PUBLIC
DESCRIPTION:Презентация программы\nReunion выпуск
 ников Трилогии открытых программ\n
ORGANIZER;CN=СКОЛКОВО:MAILTO:info@skolkovo.ru
DTSTAMP:20260420T023254Z
END:VEVENT
END:VCALENDAR