BEGIN:VCALENDAR
VERSION:2.0
PRODID:skolkovo.ru
X-WR-CALNAME:FLOW: Female Leaders Opportunities and Wholeness
X-WR-TIMEZONE:Europe/Moscow
BEGIN:VTIMEZONE
TZID:Europe/Moscow
X-LIC-LOCATION:Europe/Moscow
END:VTIMEZONE
BEGIN:VEVENT
UID:69e8f15fac1d1
DTSTART:20220915T070000Z
SEQUENCE:0
TRANSP:OPAQUE
DTEND:20220915T093000Z
LOCATION:Москва\, гостиница HYATT REGENCY Петровски
 й парк\, Ленинградский просп.\, 36\, стр. 33
SUMMARY:FLOW: Female Leaders Opportunities and Wholeness
CLASS:PUBLIC
DESCRIPTION:Бизнес-завтрак\nFLOW: Female Leaders Opportunities
  and Wholeness\n
ORGANIZER;CN=СКОЛКОВО:MAILTO:info@skolkovo.ru
DTSTAMP:20260422T160343Z
END:VEVENT
END:VCALENDAR