BEGIN:VCALENDAR
VERSION:2.0
PRODID:skolkovo.ru
X-WR-CALNAME:Цифра ПРО деньги
X-WR-TIMEZONE:Europe/Moscow
BEGIN:VTIMEZONE
TZID:Europe/Moscow
X-LIC-LOCATION:Europe/Moscow
END:VTIMEZONE
BEGIN:VEVENT
UID:69eb3d4a9a45c
DTSTART:20260428T073000Z
SEQUENCE:0
TRANSP:OPAQUE
DTEND:20260428T083000Z
LOCATION:очно\, кампус СКОЛКОВО
SUMMARY:Цифра ПРО деньги
CLASS:PUBLIC
DESCRIPTION:Мероприятие\nЦифра ПРО деньги\n
ORGANIZER;CN=СКОЛКОВО:MAILTO:info@skolkovo.ru
DTSTAMP:20260424T095210Z
END:VEVENT
END:VCALENDAR