BEGIN:VCALENDAR
VERSION:2.0
PRODID:skolkovo.ru
X-WR-CALNAME:SHAKTI FLOW: раскрывая вкус к жизни и ли
 дерству
X-WR-TIMEZONE:Europe/Moscow
BEGIN:VTIMEZONE
TZID:Europe/Moscow
X-LIC-LOCATION:Europe/Moscow
END:VTIMEZONE
BEGIN:VEVENT
UID:69e8f118a15c3
DTSTART:20221027T150000Z
SEQUENCE:0
TRANSP:OPAQUE
DTEND:20221030T210000Z
SUMMARY:SHAKTI FLOW: раскрывая вкус к жизни и лиде
 рству
CLASS:PUBLIC
DESCRIPTION:Для выпускников\nSHAKTI FLOW: раскрывая 
 вкус к жизни и лидерству\n
ORGANIZER;CN=СКОЛКОВО:MAILTO:info@skolkovo.ru
DTSTAMP:20260422T160232Z
END:VEVENT
END:VCALENDAR