BEGIN:VCALENDAR
VERSION:2.0
PRODID:skolkovo.ru
X-WR-CALNAME:Бизнес-завтрак программы LIFT
X-WR-TIMEZONE:Europe/Moscow
BEGIN:VTIMEZONE
TZID:Europe/Moscow
X-LIC-LOCATION:Europe/Moscow
END:VTIMEZONE
BEGIN:VEVENT
UID:69e5907fbc132
DTSTART:20221017T070000Z
SEQUENCE:0
TRANSP:OPAQUE
DTEND:20221020T093000Z
LOCATION:офлайн\, Marriott Новый Арбат\, 32
SUMMARY:Бизнес-завтрак программы LIFT
CLASS:PUBLIC
DESCRIPTION:Мероприятие\nБизнес-завтрак прогр
 аммы LIFT\n
ORGANIZER;CN=СКОЛКОВО:MAILTO:info@skolkovo.ru
DTSTAMP:20260420T023335Z
END:VEVENT
END:VCALENDAR