BEGIN:VCALENDAR
VERSION:2.0
PRODID:skolkovo.ru
X-WR-CALNAME:Management Analytics
X-WR-TIMEZONE:Europe/Moscow
BEGIN:VTIMEZONE
TZID:Europe/Moscow
X-LIC-LOCATION:Europe/Moscow
END:VTIMEZONE
BEGIN:VEVENT
UID:69ea32776e75a
DTSTART:20221119T060000Z
SEQUENCE:0
TRANSP:OPAQUE
DTEND:20221120T090000Z
SUMMARY:Management Analytics
CLASS:PUBLIC
DESCRIPTION:Образовательная программа\nManagement A
 nalytics\n
ORGANIZER;CN=СКОЛКОВО:MAILTO:info@skolkovo.ru
DTSTAMP:20260423T145343Z
END:VEVENT
END:VCALENDAR