BEGIN:VCALENDAR
VERSION:2.0
PRODID:skolkovo.ru
X-WR-CALNAME:Data-driven подход для удаленного упра
 вления и увеличения доходности бизнеса
X-WR-TIMEZONE:Europe/Moscow
BEGIN:VTIMEZONE
TZID:Europe/Moscow
X-LIC-LOCATION:Europe/Moscow
END:VTIMEZONE
BEGIN:VEVENT
UID:69eb533735482
DTSTART:20221102T160000Z
SEQUENCE:0
TRANSP:OPAQUE
DTEND:20221102T180000Z
LOCATION:Zoom
SUMMARY:Data-driven подход для удаленного управле
 ния и увеличения доходности бизнеса
CLASS:PUBLIC
DESCRIPTION:Вебинар\nData-driven подход для удаленн
 ого управления и увеличения доходности 
 бизнеса\n
ORGANIZER;CN=СКОЛКОВО:MAILTO:info@skolkovo.ru
DTSTAMP:20260424T112543Z
END:VEVENT
END:VCALENDAR