BEGIN:VCALENDAR
VERSION:2.0
PRODID:skolkovo.ru
X-WR-CALNAME:Презентация программы Management Analytics
X-WR-TIMEZONE:Europe/Moscow
BEGIN:VTIMEZONE
TZID:Europe/Moscow
X-LIC-LOCATION:Europe/Moscow
END:VTIMEZONE
BEGIN:VEVENT
UID:69eb53375a854
DTSTART:20221110T160000Z
SEQUENCE:0
TRANSP:OPAQUE
DTEND:20221110T173000Z
LOCATION:zoom-конференция
SUMMARY:Презентация программы Management Analytics
CLASS:PUBLIC
DESCRIPTION:Презентация программы\nПрезентаци
 я программы Management Analytics\n
ORGANIZER;CN=СКОЛКОВО:MAILTO:info@skolkovo.ru
DTSTAMP:20260424T112543Z
END:VEVENT
END:VCALENDAR