BEGIN:VCALENDAR
VERSION:2.0
PRODID:skolkovo.ru
X-WR-CALNAME:Leadership Day SKOLKOVO. Этическое лидерство
X-WR-TIMEZONE:Europe/Moscow
BEGIN:VTIMEZONE
TZID:Europe/Moscow
X-LIC-LOCATION:Europe/Moscow
END:VTIMEZONE
BEGIN:VEVENT
UID:69e8ed25c640b
DTSTART:20240402T070000Z
SEQUENCE:0
TRANSP:OPAQUE
DTEND:20240402T150000Z
LOCATION:кампус Школы управления СКОЛКОВО
SUMMARY:Leadership Day SKOLKOVO. Этическое лидерство
CLASS:PUBLIC
DESCRIPTION:Конференция\nLeadership Day SKOLKOVO. Этическ
 ое лидерство\n
ORGANIZER;CN=СКОЛКОВО:MAILTO:info@skolkovo.ru
DTSTAMP:20260422T154541Z
END:VEVENT
END:VCALENDAR