BEGIN:VCALENDAR
VERSION:2.0
PRODID:skolkovo.ru
X-WR-CALNAME:Изменение климата: реальная угроз
 а или алармизм?
X-WR-TIMEZONE:Europe/Moscow
BEGIN:VTIMEZONE
TZID:Europe/Moscow
X-LIC-LOCATION:Europe/Moscow
END:VTIMEZONE
BEGIN:VEVENT
UID:69e8ed24c8559
DTSTART:20230130T160000Z
SEQUENCE:0
TRANSP:OPAQUE
DTEND:20230130T170000Z
LOCATION:online\, YouTube
SUMMARY:Изменение климата: реальная угроза и
 ли алармизм?
CLASS:PUBLIC
DESCRIPTION:Конференция\nИзменение климата: ре
 альная угроза или алармизм?\n
ORGANIZER;CN=СКОЛКОВО:MAILTO:info@skolkovo.ru
DTSTAMP:20260422T154540Z
END:VEVENT
END:VCALENDAR