BEGIN:VCALENDAR
VERSION:2.0
PRODID:skolkovo.ru
X-WR-CALNAME:Медицинское предпринимательство
X-WR-TIMEZONE:Europe/Moscow
BEGIN:VTIMEZONE
TZID:Europe/Moscow
X-LIC-LOCATION:Europe/Moscow
END:VTIMEZONE
BEGIN:VEVENT
UID:69e8ed1dbe0e9
DTSTART:20230215T160000Z
SEQUENCE:0
TRANSP:OPAQUE
DTEND:20230215T173000Z
LOCATION:online
SUMMARY:Медицинское предпринимательство
CLASS:PUBLIC
DESCRIPTION:Мастер-класс\nМедицинское предпри
 нимательство\n
ORGANIZER;CN=СКОЛКОВО:MAILTO:info@skolkovo.ru
DTSTAMP:20260422T154533Z
END:VEVENT
END:VCALENDAR