BEGIN:VCALENDAR
VERSION:2.0
PRODID:skolkovo.ru
X-WR-CALNAME:Неочевидные аспекты лидерства
X-WR-TIMEZONE:Europe/Moscow
BEGIN:VTIMEZONE
TZID:Europe/Moscow
X-LIC-LOCATION:Europe/Moscow
END:VTIMEZONE
BEGIN:VEVENT
UID:69e590c243e26
DTSTART:20230302T160000Z
SEQUENCE:0
TRANSP:OPAQUE
DTEND:20230302T170000Z
SUMMARY:Неочевидные аспекты лидерства
CLASS:PUBLIC
DESCRIPTION:Мастер-класс\nНеочевидные аспекты 
 лидерства\n
ORGANIZER;CN=СКОЛКОВО:MAILTO:info@skolkovo.ru
DTSTAMP:20260420T023442Z
END:VEVENT
END:VCALENDAR