BEGIN:VCALENDAR
VERSION:2.0
PRODID:skolkovo.ru
X-WR-CALNAME:Презентация программы «Открытие 
 медицинского бизнеса»
X-WR-TIMEZONE:Europe/Moscow
BEGIN:VTIMEZONE
TZID:Europe/Moscow
X-LIC-LOCATION:Europe/Moscow
END:VTIMEZONE
BEGIN:VEVENT
UID:69e8ed1e98637
DTSTART:20230327T160000Z
SEQUENCE:0
TRANSP:OPAQUE
DTEND:20230327T170000Z
LOCATION:онлайн\, Zoom
SUMMARY:Презентация программы «Открытие мед
 ицинского бизнеса»
CLASS:PUBLIC
DESCRIPTION:Презентация программы\nПрезентаци
 я программы «Открытие медицинского бизн
 еса»\n
ORGANIZER;CN=СКОЛКОВО:MAILTO:info@skolkovo.ru
DTSTAMP:20260422T154534Z
END:VEVENT
END:VCALENDAR