BEGIN:VCALENDAR
VERSION:2.0
PRODID:skolkovo.ru
X-WR-CALNAME:Мотиваторы и поддержка в професси
 ональном и личном развитии женщины
X-WR-TIMEZONE:Europe/Moscow
BEGIN:VTIMEZONE
TZID:Europe/Moscow
X-LIC-LOCATION:Europe/Moscow
END:VTIMEZONE
BEGIN:VEVENT
UID:69e8f15f618cc
DTSTART:20230321T063000Z
SEQUENCE:0
TRANSP:OPAQUE
DTEND:20230321T093000Z
LOCATION:Lotte\, Новинский бульвар 8 стр 2
SUMMARY:Мотиваторы и поддержка в профессион
 альном и личном развитии женщины
CLASS:PUBLIC
DESCRIPTION:Бизнес-завтрак\nМотиваторы и подде
 ржка в профессиональном и личном развит
 ии женщины\n
ORGANIZER;CN=СКОЛКОВО:MAILTO:info@skolkovo.ru
DTSTAMP:20260422T160343Z
END:VEVENT
END:VCALENDAR