BEGIN:VCALENDAR
VERSION:2.0
PRODID:skolkovo.ru
X-WR-CALNAME:Гуманизм к себе и другому: шаг за ш
 агом
X-WR-TIMEZONE:Europe/Moscow
BEGIN:VTIMEZONE
TZID:Europe/Moscow
X-LIC-LOCATION:Europe/Moscow
END:VTIMEZONE
BEGIN:VEVENT
UID:69e8f160aa690
DTSTART:20230320T110000Z
SEQUENCE:0
TRANSP:OPAQUE
DTEND:20230320T123000Z
LOCATION:Кампус Школы управления СКОЛКОВО | Yo
 uTube-трансляция
SUMMARY:Гуманизм к себе и другому: шаг за шаг
 ом
CLASS:PUBLIC
DESCRIPTION:Дискуссия\nГуманизм к себе и друго
 му: шаг за шагом\n
ORGANIZER;CN=СКОЛКОВО:MAILTO:info@skolkovo.ru
DTSTAMP:20260422T160344Z
END:VEVENT
END:VCALENDAR