BEGIN:VCALENDAR
VERSION:2.0
PRODID:skolkovo.ru
X-WR-CALNAME:Острые вопросы медицинского бизн
 еса
X-WR-TIMEZONE:Europe/Moscow
BEGIN:VTIMEZONE
TZID:Europe/Moscow
X-LIC-LOCATION:Europe/Moscow
END:VTIMEZONE
BEGIN:VEVENT
UID:69e8ed24346b3
DTSTART:20230830T080000Z
SEQUENCE:0
TRANSP:OPAQUE
DTEND:20230829T080000Z
SUMMARY:Острые вопросы медицинского бизнеса
CLASS:PUBLIC
DESCRIPTION:Мастер-класс\nОстрые вопросы медиц
 инского бизнеса\n
ORGANIZER;CN=СКОЛКОВО:MAILTO:info@skolkovo.ru
DTSTAMP:20260422T154540Z
END:VEVENT
END:VCALENDAR