BEGIN:VCALENDAR
VERSION:2.0
PRODID:skolkovo.ru
X-WR-CALNAME:Рефлексия как инструмент развити
 я лидера
X-WR-TIMEZONE:Europe/Moscow
BEGIN:VTIMEZONE
TZID:Europe/Moscow
X-LIC-LOCATION:Europe/Moscow
END:VTIMEZONE
BEGIN:VEVENT
UID:69e590403180d
DTSTART:20240905T160000Z
SEQUENCE:0
TRANSP:OPAQUE
DTEND:20240905T173000Z
LOCATION:zoom
SUMMARY:Рефлексия как инструмент развития л
 идера
CLASS:PUBLIC
DESCRIPTION:Мастер-класс\nРефлексия как инстру
 мент развития лидера\n
ORGANIZER;CN=СКОЛКОВО:MAILTO:info@skolkovo.ru
DTSTAMP:20260420T023232Z
END:VEVENT
END:VCALENDAR