BEGIN:VCALENDAR
VERSION:2.0
PRODID:skolkovo.ru
X-WR-CALNAME:Фундаментальные компетенции упра
 вленца в медицинском бизнесе
X-WR-TIMEZONE:Europe/Moscow
BEGIN:VTIMEZONE
TZID:Europe/Moscow
X-LIC-LOCATION:Europe/Moscow
END:VTIMEZONE
BEGIN:VEVENT
UID:69e8ed18c2598
DTSTART:20231114T080000Z
SEQUENCE:0
TRANSP:OPAQUE
DTEND:20231114T091500Z
LOCATION:online
SUMMARY:Фундаментальные компетенции управл
 енца в медицинском бизнесе
CLASS:PUBLIC
DESCRIPTION:Вебинар\nФундаментальные компетен
 ции управленца в медицинском бизнесе\n
ORGANIZER;CN=СКОЛКОВО:MAILTO:info@skolkovo.ru
DTSTAMP:20260422T154528Z
END:VEVENT
END:VCALENDAR