BEGIN:VCALENDAR
VERSION:2.0
PRODID:skolkovo.ru
X-WR-CALNAME:Бизнес-бакалавриат СКОЛКОВО
X-WR-TIMEZONE:Europe/Moscow
BEGIN:VTIMEZONE
TZID:Europe/Moscow
X-LIC-LOCATION:Europe/Moscow
END:VTIMEZONE
BEGIN:VEVENT
UID:69eba070e3f9f
DTSTART:20260901T060000Z
SEQUENCE:0
TRANSP:OPAQUE
DTEND:20290630T090000Z
SUMMARY:Бизнес-бакалавриат СКОЛКОВО
CLASS:PUBLIC
DESCRIPTION:Образовательная программа\nБизнес
 -бакалавриат СКОЛКОВО\n
ORGANIZER;CN=СКОЛКОВО:MAILTO:info@skolkovo.ru
DTSTAMP:20260424T165512Z
END:VEVENT
END:VCALENDAR