BEGIN:VCALENDAR
VERSION:2.0
PRODID:skolkovo.ru
X-WR-CALNAME:Как подводить итоги года и ставит
 ь достижимые цели?
X-WR-TIMEZONE:Europe/Moscow
BEGIN:VTIMEZONE
TZID:Europe/Moscow
X-LIC-LOCATION:Europe/Moscow
END:VTIMEZONE
BEGIN:VEVENT
UID:69e590a19860f
DTSTART:20240110T080000Z
SEQUENCE:0
TRANSP:OPAQUE
DTEND:20240109T090000Z
LOCATION:Онлайн\, zoom
SUMMARY:Как подводить итоги года и ставить д
 остижимые цели?
CLASS:PUBLIC
DESCRIPTION:Мастер-класс\nКак подводить итоги 
 года и ставить достижимые цели?\n
ORGANIZER;CN=СКОЛКОВО:MAILTO:info@skolkovo.ru
DTSTAMP:20260420T023409Z
END:VEVENT
END:VCALENDAR