BEGIN:VCALENDAR
VERSION:2.0
PRODID:skolkovo.ru
X-WR-CALNAME:Новый медицинский бизнес: классич
 еский или инновационный? Условия успешн
 ого старта
X-WR-TIMEZONE:Europe/Moscow
BEGIN:VTIMEZONE
TZID:Europe/Moscow
X-LIC-LOCATION:Europe/Moscow
END:VTIMEZONE
BEGIN:VEVENT
UID:69e8ecc07158c
DTSTART:20240123T080000Z
SEQUENCE:0
TRANSP:OPAQUE
DTEND:20250101T100000Z
LOCATION:онлайн-трансляция
SUMMARY:Новый медицинский бизнес: классичес
 кий или инновационный? Условия успешног
 о старта
CLASS:PUBLIC
DESCRIPTION:Вебинар\nНовый медицинский бизнес:
  классический или инновационный? Услови
 я успешного старта\n
ORGANIZER;CN=СКОЛКОВО:MAILTO:info@skolkovo.ru
DTSTAMP:20260422T154400Z
END:VEVENT
END:VCALENDAR