BEGIN:VCALENDAR
VERSION:2.0
PRODID:skolkovo.ru
X-WR-CALNAME:Как планировать свою жизнь в мире\
 , где стратегия умерла?
X-WR-TIMEZONE:Europe/Moscow
BEGIN:VTIMEZONE
TZID:Europe/Moscow
X-LIC-LOCATION:Europe/Moscow
END:VTIMEZONE
BEGIN:VEVENT
UID:69e590c24413d
DTSTART:20240131T160000Z
SEQUENCE:0
TRANSP:OPAQUE
DTEND:20240131T170000Z
LOCATION:zoom-трансляция
SUMMARY:Как планировать свою жизнь в мире\, г
 де стратегия умерла?
CLASS:PUBLIC
DESCRIPTION:Мастер-класс\nКак планировать свою
  жизнь в мире\, где стратегия умерла?\n
ORGANIZER;CN=СКОЛКОВО:MAILTO:info@skolkovo.ru
DTSTAMP:20260420T023442Z
END:VEVENT
END:VCALENDAR