BEGIN:VCALENDAR
VERSION:2.0
PRODID:skolkovo.ru
X-WR-CALNAME:Бизнес-завтрак на Кампусе
X-WR-TIMEZONE:Europe/Moscow
BEGIN:VTIMEZONE
TZID:Europe/Moscow
X-LIC-LOCATION:Europe/Moscow
END:VTIMEZONE
BEGIN:VEVENT
UID:69e8f1554e275
DTSTART:20250520T080000Z
SEQUENCE:0
TRANSP:OPAQUE
DTEND:20250520T093000Z
LOCATION:Москва\, кампус Школы управления СКО
 ЛКОВО
SUMMARY:Бизнес-завтрак на Кампусе
CLASS:PUBLIC
DESCRIPTION:Бизнес-завтрак\nБизнес-завтрак на 
 Кампусе\n
ORGANIZER;CN=СКОЛКОВО:MAILTO:info@skolkovo.ru
DTSTAMP:20260422T160333Z
END:VEVENT
END:VCALENDAR