BEGIN:VCALENDAR
VERSION:2.0
PRODID:skolkovo.ru
X-WR-CALNAME:Как социальный капитал влияет на 
 качество жизни и развитие карьеры
X-WR-TIMEZONE:Europe/Moscow
BEGIN:VTIMEZONE
TZID:Europe/Moscow
X-LIC-LOCATION:Europe/Moscow
END:VTIMEZONE
BEGIN:VEVENT
UID:69e590a1986cf
DTSTART:20240213T070000Z
SEQUENCE:0
TRANSP:OPAQUE
DTEND:20240213T090000Z
LOCATION:Бизнес-клуб Kelia
SUMMARY:Как социальный капитал влияет на кач
 ество жизни и развитие карьеры
CLASS:PUBLIC
DESCRIPTION:Бизнес-завтрак\nКак социальный кап
 итал влияет на качество жизни и развитие
  карьеры\n
ORGANIZER;CN=СКОЛКОВО:MAILTO:info@skolkovo.ru
DTSTAMP:20260420T023409Z
END:VEVENT
END:VCALENDAR