BEGIN:VCALENDAR
VERSION:2.0
PRODID:skolkovo.ru
X-WR-CALNAME:Презентация программы «Открытие 
 медицинского бизнеса»
X-WR-TIMEZONE:Europe/Moscow
BEGIN:VTIMEZONE
TZID:Europe/Moscow
X-LIC-LOCATION:Europe/Moscow
END:VTIMEZONE
BEGIN:VEVENT
UID:69e8ecd108d81
DTSTART:20240306T120000Z
SEQUENCE:0
TRANSP:OPAQUE
DTEND:20241231T133000Z
LOCATION:онлайн
SUMMARY:Презентация программы «Открытие мед
 ицинского бизнеса»
CLASS:PUBLIC
DESCRIPTION:Презентация программы\nПрезентаци
 я программы «Открытие медицинского бизн
 еса»\n
ORGANIZER;CN=СКОЛКОВО:MAILTO:info@skolkovo.ru
DTSTAMP:20260422T154417Z
END:VEVENT
END:VCALENDAR