BEGIN:VCALENDAR
VERSION:2.0
PRODID:skolkovo.ru
X-WR-CALNAME:Трилогия онлайн-программ «Страте
 гия вашего роста»
X-WR-TIMEZONE:Europe/Moscow
BEGIN:VTIMEZONE
TZID:Europe/Moscow
X-LIC-LOCATION:Europe/Moscow
END:VTIMEZONE
BEGIN:VEVENT
UID:69e59352e7cff
DTSTART:20260427T070000Z
SEQUENCE:0
TRANSP:OPAQUE
DTEND:20270902T173000Z
SUMMARY:Трилогия онлайн-программ «Стратегия
  вашего роста»
CLASS:PUBLIC
DESCRIPTION:Образовательная программа\nТрилог
 ия онлайн-программ «Стратегия вашего ро
 ста»\n
ORGANIZER;CN=СКОЛКОВО:MAILTO:info@skolkovo.ru
DTSTAMP:20260420T024538Z
END:VEVENT
END:VCALENDAR