BEGIN:VCALENDAR
VERSION:2.0
PRODID:skolkovo.ru
X-WR-CALNAME:Международные практики в здравоо
 хранении. Турция
X-WR-TIMEZONE:Europe/Moscow
BEGIN:VTIMEZONE
TZID:Europe/Moscow
X-LIC-LOCATION:Europe/Moscow
END:VTIMEZONE
BEGIN:VEVENT
UID:69e8f1564b1e2
DTSTART:20241014T070000Z
SEQUENCE:0
TRANSP:OPAQUE
DTEND:20241013T210000Z
SUMMARY:Международные практики в здравоохра
 нении. Турция
CLASS:PUBLIC
DESCRIPTION:Образовательная программа\nМеждун
 ародные практики в здравоохранении. Тур
 ция\n
ORGANIZER;CN=СКОЛКОВО:MAILTO:info@skolkovo.ru
DTSTAMP:20260422T160334Z
END:VEVENT
END:VCALENDAR