BEGIN:VCALENDAR
VERSION:2.0
PRODID:skolkovo.ru
X-WR-CALNAME:Презентация программы «Междунаро
 дные практики в здравоохранении: Турция
 »
X-WR-TIMEZONE:Europe/Moscow
BEGIN:VTIMEZONE
TZID:Europe/Moscow
X-LIC-LOCATION:Europe/Moscow
END:VTIMEZONE
BEGIN:VEVENT
UID:69e8ed1f20f11
DTSTART:20240521T080000Z
SEQUENCE:0
TRANSP:OPAQUE
DTEND:20241231T090000Z
LOCATION:онлайн\, YouTube
SUMMARY:Презентация программы «Международн
 ые практики в здравоохранении: Турция»
CLASS:PUBLIC
DESCRIPTION:Презентация программы\nПрезентаци
 я программы «Международные практики в з
 дравоохранении: Турция»\n
ORGANIZER;CN=СКОЛКОВО:MAILTO:info@skolkovo.ru
DTSTAMP:20260422T154535Z
END:VEVENT
END:VCALENDAR