BEGIN:VCALENDAR
VERSION:2.0
PRODID:skolkovo.ru
X-WR-CALNAME:Устойчивое развитие: от стратегии
  к тактике
X-WR-TIMEZONE:Europe/Moscow
BEGIN:VTIMEZONE
TZID:Europe/Moscow
X-LIC-LOCATION:Europe/Moscow
END:VTIMEZONE
BEGIN:VEVENT
UID:69e9f1f6a4cb9
DTSTART:20260420T160000Z
SEQUENCE:0
TRANSP:OPAQUE
DTEND:20260420T160000Z
SUMMARY:Устойчивое развитие: от стратегии к 
 тактике
CLASS:PUBLIC
DESCRIPTION:Образовательная программа\nУстойч
 ивое развитие: от стратегии к тактике\n
ORGANIZER;CN=СКОЛКОВО:MAILTO:info@skolkovo.ru
DTSTAMP:20260423T101830Z
END:VEVENT
END:VCALENDAR