BEGIN:VCALENDAR
VERSION:2.0
PRODID:skolkovo.ru
X-WR-CALNAME:Кому нужны данные: ИТ-специалиста
 м или управленцам
X-WR-TIMEZONE:Europe/Moscow
BEGIN:VTIMEZONE
TZID:Europe/Moscow
X-LIC-LOCATION:Europe/Moscow
END:VTIMEZONE
BEGIN:VEVENT
UID:69ea30f46f438
DTSTART:20240603T153000Z
SEQUENCE:0
TRANSP:OPAQUE
DTEND:20240603T163000Z
LOCATION:онлайн
SUMMARY:Кому нужны данные: ИТ-специалистам и
 ли управленцам
CLASS:PUBLIC
DESCRIPTION:Презентация программы\nКому нужны 
 данные: ИТ-специалистам или управленцам\
 n
ORGANIZER;CN=СКОЛКОВО:MAILTO:info@skolkovo.ru
DTSTAMP:20260423T144716Z
END:VEVENT
END:VCALENDAR