BEGIN:VCALENDAR
VERSION:2.0
PRODID:skolkovo.ru
X-WR-CALNAME:Как работать с данными сегодня: пр
 актики до и после AI-бума
X-WR-TIMEZONE:Europe/Moscow
BEGIN:VTIMEZONE
TZID:Europe/Moscow
X-LIC-LOCATION:Europe/Moscow
END:VTIMEZONE
BEGIN:VEVENT
UID:69ea3156c60a6
DTSTART:20240610T153000Z
SEQUENCE:0
TRANSP:OPAQUE
DTEND:20240610T163000Z
LOCATION:трансляция в Zoom
SUMMARY:Как работать с данными сегодня: прак
 тики до и после AI-бума
CLASS:PUBLIC
DESCRIPTION:Презентация программы\nКак работа
 ть с данными сегодня: практики до и после
  AI-бума\n
ORGANIZER;CN=СКОЛКОВО:MAILTO:info@skolkovo.ru
DTSTAMP:20260423T144854Z
END:VEVENT
END:VCALENDAR