BEGIN:VCALENDAR
VERSION:2.0
PRODID:skolkovo.ru
X-WR-CALNAME:Executive Coaching and Mentoring Day 2025
X-WR-TIMEZONE:Europe/Moscow
BEGIN:VTIMEZONE
TZID:Europe/Moscow
X-LIC-LOCATION:Europe/Moscow
END:VTIMEZONE
BEGIN:VEVENT
UID:69ea8c52b4bb2
DTSTART:20251030T070000Z
SEQUENCE:0
TRANSP:OPAQUE
DTEND:20251030T170000Z
LOCATION:кампус Школы управления СКОЛКОВО
SUMMARY:Executive Coaching and Mentoring Day 2025
CLASS:PUBLIC
DESCRIPTION:Конференция\nExecutive Coaching and Mentoring Day 20
 25\n
ORGANIZER;CN=СКОЛКОВО:MAILTO:info@skolkovo.ru
DTSTAMP:20260423T211706Z
END:VEVENT
END:VCALENDAR