BEGIN:VCALENDAR
VERSION:2.0
PRODID:skolkovo.ru
X-WR-CALNAME:Пациент в здравоохранении — путь 
 и влияние на систему
X-WR-TIMEZONE:Europe/Moscow
BEGIN:VTIMEZONE
TZID:Europe/Moscow
X-LIC-LOCATION:Europe/Moscow
END:VTIMEZONE
BEGIN:VEVENT
UID:69e8ed1739843
DTSTART:20240807T080000Z
SEQUENCE:0
TRANSP:OPAQUE
DTEND:20250826T090000Z
LOCATION:запись на RuTube
SUMMARY:Пациент в здравоохранении — путь и в
 лияние на систему
CLASS:PUBLIC
DESCRIPTION:Мастер-класс\nПациент в здравоохра
 нении — путь и влияние на систему\n
ORGANIZER;CN=СКОЛКОВО:MAILTO:info@skolkovo.ru
DTSTAMP:20260422T154527Z
END:VEVENT
END:VCALENDAR