BEGIN:VCALENDAR
VERSION:2.0
PRODID:skolkovo.ru
X-WR-CALNAME:Интенсив по генеративным алгорит
 мам и ИИ
X-WR-TIMEZONE:Europe/Moscow
BEGIN:VTIMEZONE
TZID:Europe/Moscow
X-LIC-LOCATION:Europe/Moscow
END:VTIMEZONE
BEGIN:VEVENT
UID:69eb3d4b187cd
DTSTART:20260513T070000Z
SEQUENCE:0
TRANSP:OPAQUE
DTEND:20260514T160000Z
LOCATION:кампус СКОЛКОВО
SUMMARY:Интенсив по генеративным алгоритмам
  и ИИ
CLASS:PUBLIC
DESCRIPTION:Образовательная программа\nИнтенс
 ив по генеративным алгоритмам и ИИ\n
ORGANIZER;CN=СКОЛКОВО:MAILTO:info@skolkovo.ru
DTSTAMP:20260424T095211Z
END:VEVENT
END:VCALENDAR