BEGIN:VCALENDAR
VERSION:2.0
PRODID:skolkovo.ru
X-WR-CALNAME:День основания СКОЛКОВО
X-WR-TIMEZONE:Europe/Moscow
BEGIN:VTIMEZONE
TZID:Europe/Moscow
X-LIC-LOCATION:Europe/Moscow
END:VTIMEZONE
BEGIN:VEVENT
UID:69e8ed1738671
DTSTART:20240921T080000Z
SEQUENCE:0
TRANSP:OPAQUE
DTEND:20240921T190000Z
SUMMARY:День основания СКОЛКОВО
CLASS:PUBLIC
DESCRIPTION:Конференция\nДень основания СКОЛК
 ОВО\n
ORGANIZER;CN=СКОЛКОВО:MAILTO:info@skolkovo.ru
DTSTAMP:20260422T154527Z
END:VEVENT
END:VCALENDAR