BEGIN:VCALENDAR
VERSION:2.0
PRODID:skolkovo.ru
X-WR-CALNAME:Управление в здравоохранении: мар
 кетинг
X-WR-TIMEZONE:Europe/Moscow
BEGIN:VTIMEZONE
TZID:Europe/Moscow
X-LIC-LOCATION:Europe/Moscow
END:VTIMEZONE
BEGIN:VEVENT
UID:69e8f119a3b16
DTSTART:20270218T070000Z
SEQUENCE:0
TRANSP:OPAQUE
DTEND:20270220T160000Z
SUMMARY:Управление в здравоохранении: марке
 тинг
CLASS:PUBLIC
DESCRIPTION:Модуль образовательной программы\
 nУправление в здравоохранении: маркетин
 г\n
ORGANIZER;CN=СКОЛКОВО:MAILTO:info@skolkovo.ru
DTSTAMP:20260422T160233Z
END:VEVENT
END:VCALENDAR