BEGIN:VCALENDAR
VERSION:2.0
PRODID:skolkovo.ru
X-WR-CALNAME:Управление в здравоохранении: фин
 ансы
X-WR-TIMEZONE:Europe/Moscow
BEGIN:VTIMEZONE
TZID:Europe/Moscow
X-LIC-LOCATION:Europe/Moscow
END:VTIMEZONE
BEGIN:VEVENT
UID:69e8f16131310
DTSTART:20270318T070000Z
SEQUENCE:0
TRANSP:OPAQUE
DTEND:20270320T160000Z
SUMMARY:Управление в здравоохранении: финан
 сы
CLASS:PUBLIC
DESCRIPTION:Модуль образовательной программы\
 nУправление в здравоохранении: финансы\n
ORGANIZER;CN=СКОЛКОВО:MAILTO:info@skolkovo.ru
DTSTAMP:20260422T160345Z
END:VEVENT
END:VCALENDAR