BEGIN:VCALENDAR
VERSION:2.0
PRODID:skolkovo.ru
X-WR-CALNAME:Развитие стратегического мышлени
 я: навыки и инструменты
X-WR-TIMEZONE:Europe/Moscow
BEGIN:VTIMEZONE
TZID:Europe/Moscow
X-LIC-LOCATION:Europe/Moscow
END:VTIMEZONE
BEGIN:VEVENT
UID:69e8f15444035
DTSTART:20220909T090000Z
SEQUENCE:0
TRANSP:OPAQUE
DTEND:20220930T110000Z
SUMMARY:Развитие стратегического мышления: 
 навыки и инструменты
CLASS:PUBLIC
DESCRIPTION:Образовательная программа\nРазвит
 ие стратегического мышления: навыки и ин
 струменты\n
ORGANIZER;CN=СКОЛКОВО:MAILTO:info@skolkovo.ru
DTSTAMP:20260422T160332Z
END:VEVENT
END:VCALENDAR