BEGIN:VCALENDAR
VERSION:2.0
PRODID:skolkovo.ru
X-WR-CALNAME:Ключевые факторы успеха медицинс
 кого бизнеса
X-WR-TIMEZONE:Europe/Moscow
BEGIN:VTIMEZONE
TZID:Europe/Moscow
X-LIC-LOCATION:Europe/Moscow
END:VTIMEZONE
BEGIN:VEVENT
UID:69e8ed24359a0
DTSTART:20241029T080000Z
SEQUENCE:0
TRANSP:OPAQUE
DTEND:20241029T093000Z
LOCATION:трансляция в Zoom
SUMMARY:Ключевые факторы успеха медицинског
 о бизнеса
CLASS:PUBLIC
DESCRIPTION:Вебинар\nКлючевые факторы успеха м
 едицинского бизнеса\n
ORGANIZER;CN=СКОЛКОВО:MAILTO:info@skolkovo.ru
DTSTAMP:20260422T154540Z
END:VEVENT
END:VCALENDAR