BEGIN:VCALENDAR
VERSION:2.0
PRODID:skolkovo.ru
X-WR-CALNAME:Международные практики в здравоо
 хранении: Сингапур
X-WR-TIMEZONE:Europe/Moscow
BEGIN:VTIMEZONE
TZID:Europe/Moscow
X-LIC-LOCATION:Europe/Moscow
END:VTIMEZONE
BEGIN:VEVENT
UID:69e8f1539d5d5
DTSTART:20250402T070000Z
SEQUENCE:0
TRANSP:OPAQUE
DTEND:20250404T150000Z
SUMMARY:Международные практики в здравоохра
 нении: Сингапур
CLASS:PUBLIC
DESCRIPTION:Образовательная программа\nМеждун
 ародные практики в здравоохранении: Син
 гапур\n
ORGANIZER;CN=СКОЛКОВО:MAILTO:info@skolkovo.ru
DTSTAMP:20260422T160331Z
END:VEVENT
END:VCALENDAR