BEGIN:VCALENDAR
VERSION:2.0
PRODID:skolkovo.ru
X-WR-CALNAME:Новый год в СКОЛКОВО
X-WR-TIMEZONE:Europe/Moscow
BEGIN:VTIMEZONE
TZID:Europe/Moscow
X-LIC-LOCATION:Europe/Moscow
END:VTIMEZONE
BEGIN:VEVENT
UID:69ea31b0a3a33
DTSTART:20241214T080000Z
SEQUENCE:0
TRANSP:OPAQUE
DTEND:20241214T090000Z
SUMMARY:Новый год в СКОЛКОВО
CLASS:PUBLIC
DESCRIPTION:Спецпроект\nНовый год в СКОЛКОВО\n
ORGANIZER;CN=СКОЛКОВО:MAILTO:info@skolkovo.ru
DTSTAMP:20260423T145024Z
END:VEVENT
END:VCALENDAR