BEGIN:VCALENDAR
VERSION:2.0
PRODID:skolkovo.ru
X-WR-CALNAME:Демодень экспертов-выпускников п
 рограммы «Лидеры как преподаватели»
X-WR-TIMEZONE:Europe/Moscow
BEGIN:VTIMEZONE
TZID:Europe/Moscow
X-LIC-LOCATION:Europe/Moscow
END:VTIMEZONE
BEGIN:VEVENT
UID:69e8f119277b0
DTSTART:20241213T070000Z
SEQUENCE:0
TRANSP:OPAQUE
DTEND:20241214T070000Z
SUMMARY:Демодень экспертов-выпускников прог
 раммы «Лидеры как преподаватели»
CLASS:PUBLIC
DESCRIPTION:Мероприятие\nДемодень экспертов-в
 ыпускников программы «Лидеры как препод
 аватели»\n
ORGANIZER;CN=СКОЛКОВО:MAILTO:info@skolkovo.ru
DTSTAMP:20260422T160233Z
END:VEVENT
END:VCALENDAR