BEGIN:VCALENDAR
VERSION:2.0
PRODID:skolkovo.ru
X-WR-CALNAME:Знакомство с Центром развития здр
 авоохранения СКОЛКОВО
X-WR-TIMEZONE:Europe/Moscow
BEGIN:VTIMEZONE
TZID:Europe/Moscow
X-LIC-LOCATION:Europe/Moscow
END:VTIMEZONE
BEGIN:VEVENT
UID:69e8ecd2af89f
DTSTART:20241203T080000Z
SEQUENCE:0
TRANSP:OPAQUE
DTEND:20241203T090000Z
LOCATION:онлайн в zoom
SUMMARY:Знакомство с Центром развития здрав
 оохранения СКОЛКОВО
CLASS:PUBLIC
DESCRIPTION:Мастер-класс\nЗнакомство с Центром
  развития здравоохранения СКОЛКОВО\n
ORGANIZER;CN=СКОЛКОВО:MAILTO:info@skolkovo.ru
DTSTAMP:20260422T154418Z
END:VEVENT
END:VCALENDAR