BEGIN:VCALENDAR
VERSION:2.0
PRODID:skolkovo.ru
X-WR-CALNAME:Можно ли научиться технологиям мы
 шления?
X-WR-TIMEZONE:Europe/Moscow
BEGIN:VTIMEZONE
TZID:Europe/Moscow
X-LIC-LOCATION:Europe/Moscow
END:VTIMEZONE
BEGIN:VEVENT
UID:69e9ee9c73ff8
DTSTART:20260514T070000Z
SEQUENCE:0
TRANSP:OPAQUE
DTEND:20260514T090000Z
LOCATION:кампус СКОЛКОВО + zoom-трансляция
SUMMARY:Можно ли научиться технологиям мышл
 ения?
CLASS:PUBLIC
DESCRIPTION:Бизнес-завтрак\nМожно ли научиться
  технологиям мышления?\n
ORGANIZER;CN=СКОЛКОВО:MAILTO:info@skolkovo.ru
DTSTAMP:20260423T100412Z
END:VEVENT
END:VCALENDAR